BEGIN:VCALENDAR
VERSION:2.0
PRODID:icalendar-ruby
CALSCALE:GREGORIAN
BEGIN:VEVENT
DTSTAMP:20260425T145209Z
UID:d8558083-a627-40e3-99e3-ccd4178427ff
DTSTART;TZID=Pacific/Auckland:20260426T120000
DTEND;TZID=Pacific/Auckland:20260426T123000
DESCRIPTION:Property ID# 602782
SUMMARY:Openhome for 79 Domain Road
END:VEVENT
END:VCALENDAR
