BEGIN:VCALENDAR
VERSION:2.0
PRODID:icalendar-ruby
CALSCALE:GREGORIAN
BEGIN:VEVENT
DTSTAMP:20260425T145128Z
UID:3495c802-2a55-46c6-b0c2-0cb32fe8d301
DTSTART;TZID=Pacific/Auckland:20260426T110000
DTEND;TZID=Pacific/Auckland:20260426T113000
DESCRIPTION:Property ID# 600435
SUMMARY:Openhome for 76C Greerton Road
END:VEVENT
END:VCALENDAR
