BEGIN:VCALENDAR
VERSION:2.0
PRODID:icalendar-ruby
CALSCALE:GREGORIAN
BEGIN:VEVENT
DTSTAMP:20260423T093816Z
UID:87e72f52-d726-4201-87bc-9918fcc9ec3b
DTSTART;TZID=Pacific/Auckland:20260426T134500
DTEND;TZID=Pacific/Auckland:20260426T141500
DESCRIPTION:Property ID# 606903
SUMMARY:Openhome for 29 Camellia Drive
END:VEVENT
END:VCALENDAR
