BEGIN:VCALENDAR
VERSION:2.0
PRODID:icalendar-ruby
CALSCALE:GREGORIAN
BEGIN:VEVENT
DTSTAMP:20260422T172116Z
UID:5a70a160-d125-46ab-b68e-8502dcaa4445
DTSTART;TZID=Pacific/Auckland:20260426T110000
DTEND;TZID=Pacific/Auckland:20260426T113000
DESCRIPTION:Property ID# 606550
SUMMARY:Openhome for 97B Gloucester Road
END:VEVENT
END:VCALENDAR
