BEGIN:VCALENDAR
VERSION:2.0
PRODID:icalendar-ruby
CALSCALE:GREGORIAN
BEGIN:VEVENT
DTSTAMP:20260423T142831Z
UID:d0d0040f-5aca-4ba8-ba50-904e6a1386de
DTSTART;TZID=Pacific/Auckland:20260426T140000
DTEND;TZID=Pacific/Auckland:20260426T143000
DESCRIPTION:Property ID# 607139
SUMMARY:Openhome for 26A Short Street
END:VEVENT
END:VCALENDAR
