BEGIN:VCALENDAR
VERSION:2.0
PRODID:icalendar-ruby
CALSCALE:GREGORIAN
BEGIN:VEVENT
DTSTAMP:20260423T141328Z
UID:e463e692-6638-423e-8948-7cfed3f673fb
DTSTART;TZID=Pacific/Auckland:20260426T120000
DTEND;TZID=Pacific/Auckland:20260426T123000
DESCRIPTION:Property ID# 607014
SUMMARY:Openhome for 12 Faulkner Street
END:VEVENT
END:VCALENDAR
