BEGIN:VCALENDAR
VERSION:2.0
PRODID:icalendar-ruby
CALSCALE:GREGORIAN
BEGIN:VEVENT
DTSTAMP:20260425T112704Z
UID:8fd0d509-14d0-4f09-a87f-0ac0d3a71183
DTSTART;TZID=Pacific/Auckland:20260426T130000
DTEND;TZID=Pacific/Auckland:20260426T140000
DESCRIPTION:Property ID# 607138
SUMMARY:Openhome for 187 Matapihi Road
END:VEVENT
END:VCALENDAR
