BEGIN:VCALENDAR
VERSION:2.0
PRODID:icalendar-ruby
CALSCALE:GREGORIAN
BEGIN:VEVENT
DTSTAMP:20260425T144436Z
UID:015bfd50-7ca1-476d-9cc0-ddd58e99a916
DTSTART;TZID=Pacific/Auckland:20260426T113000
DTEND;TZID=Pacific/Auckland:20260426T121500
DESCRIPTION:Property ID# 607297
SUMMARY:Openhome for 99 Beach Road
END:VEVENT
END:VCALENDAR
